BEGIN:VCALENDAR
VERSION:2.0
PRODID:-//We Are Tuahiwi - ECPv4.2.5//NONSGML v1.0//EN
CALSCALE:GREGORIAN
METHOD:PUBLISH
X-WR-CALNAME:We Are Tuahiwi
X-ORIGINAL-URL:http://www.tuahiwimarae.iwi.nz
X-WR-CALDESC:Events for We Are Tuahiwi
BEGIN:VEVENT
DTSTART;TZID=Pacific/Auckland:20150131T103000
DTEND;TZID=Pacific/Auckland:20150131T170000
DTSTAMP:20180125T155939
CREATED:20150115T154531
LAST-MODIFIED:20150128T125856
UID:144-1422700200-1422723600@www.tuahiwimarae.iwi.nz
SUMMARY:Karanga Wānanga
DESCRIPTION:Saturday 31 January is the first Karanga Wananga for 2015 starting at 10.30am to soup and sandwich lunch at 1.30pm.\nAll women are welcome to join me!
URL:http://www.tuahiwimarae.iwi.nz/event/karanga-wananga/
LOCATION:219 Tuahiwi Road\, Tuahiwi\, Canterbury\, 7691\, New Zealand
END:VEVENT
END:VCALENDAR